BEGIN:VCALENDAR
PRODID:-//AT Content Types//AT Event//EN
VERSION:2.0
METHOD:PUBLISH
BEGIN:VEVENT
DTSTAMP:20260421T171251Z
CREATED:20170919T130413Z
UID:ATEvent-11fec8c385499f1af58750509952a108
LAST-MODIFIED:20170920T205910Z
SUMMARY:Најава за РобоМак 2017
DTSTART:20171009T060000Z
DTEND:20171014T180000Z
CLASS:PUBLIC
END:VEVENT
END:VCALENDAR
