BEGIN:VCALENDAR
PRODID:-//AT Content Types//AT Event//EN
VERSION:2.0
METHOD:PUBLISH
BEGIN:VEVENT
DTSTAMP:20260421T171333Z
CREATED:20190221T123904Z
UID:ATEvent-26f7c482ab38f77c31ae4b670a8f8a60
LAST-MODIFIED:20190221T125916Z
SUMMARY:Најава за „RoboMac 2019”
DTSTART:20190318T070000Z
DTEND:20190323T170000Z
CLASS:PUBLIC
END:VEVENT
END:VCALENDAR
