BEGIN:VCALENDAR
PRODID:-//AT Content Types//AT Event//EN
VERSION:2.0
METHOD:PUBLISH
BEGIN:VEVENT
DTSTAMP:20260421T172036Z
CREATED:20120817T124238Z
UID:ATEvent-bccf992f0b51b8f0834b6a30871fb80a
LAST-MODIFIED:20120822T125232Z
SUMMARY:Линукс курсеви
DTSTART:20120917T070000Z
DTEND:20120926T130000Z
CLASS:PUBLIC
END:VEVENT
END:VCALENDAR
