BEGIN:VCALENDAR
PRODID:-//AT Content Types//AT Event//EN
VERSION:1.0
BEGIN:VEVENT
DTSTART:20190701T070000Z
DTEND:20190705T180000Z
DCREATED:20190627T072959Z
UID:ATEvent-cccf7a9b5ab0ac22548384acd41de498
SEQUENCE:0
LAST-MODIFIED:20190627T073841Z
SUMMARY:Летна школа „Дизајн на вградливи микрокомпјутерски системи 2019“
PRIORITY:3
TRANSP:0
END:VEVENT
END:VCALENDAR
