BEGIN:VCALENDAR
PRODID:-//AT Content Types//AT Event//EN
VERSION:1.0
BEGIN:VEVENT
DTSTART:20180625T070000Z
DTEND:20180629T180000Z
DCREATED:20180622T061103Z
UID:ATEvent-5d1c5c1eeaa51686ee949dcc5326b4d1
SEQUENCE:0
LAST-MODIFIED:20180622T091326Z
SUMMARY:Летна школа „Дизајн на вградливи микрокомпјутерски системи 2018“
PRIORITY:3
TRANSP:0
END:VEVENT
END:VCALENDAR
