BEGIN:VCALENDAR
PRODID:-//AT Content Types//AT Event//EN
VERSION:1.0
BEGIN:VEVENT
DTSTART:20120813T080000Z
DTEND:20120823T110000Z
DCREATED:20120801T100452Z
UID:ATEvent-9b323f69df215d764b9a03a1a336b1ea
SEQUENCE:0
LAST-MODIFIED:20120821T140823Z
SUMMARY:Летен курс за програмирање Code@FEIT 2012
PRIORITY:3
TRANSP:0
END:VEVENT
END:VCALENDAR
