BEGIN:VCALENDAR
PRODID:-//AT Content Types//AT Event//EN
VERSION:1.0
BEGIN:VEVENT
DTSTART:20180923T220000Z
DTEND:20180928T215500Z
DCREATED:20180910T130958Z
UID:ATEvent-506a57eef0f7179b6b916c903edb2618
SEQUENCE:0
LAST-MODIFIED:20180910T131830Z
SUMMARY:Курс за вовед во програмирање Code@FEIT 2018
PRIORITY:3
TRANSP:0
END:VEVENT
END:VCALENDAR
