BEGIN:VCALENDAR
PRODID:-//AT Content Types//AT Event//EN
VERSION:2.0
METHOD:PUBLISH
BEGIN:VEVENT
DTSTAMP:20260421T171320Z
CREATED:20170824T132217Z
UID:ATEvent-3b369464761a0c914195d7f763333594
LAST-MODIFIED:20170824T133816Z
SUMMARY:Курс за вовед во програмирање Code@FEIT 2017
DTSTART:20170911T060000Z
DTEND:20170915T120000Z
CLASS:PUBLIC
END:VEVENT
END:VCALENDAR
