BEGIN:VCALENDAR
PRODID:-//AT Content Types//AT Event//EN
VERSION:1.0
BEGIN:VEVENT
DTSTART:20110912T103000Z
DTEND:20111030T143000Z
DCREATED:20110906T085514Z
UID:ATEvent-a54b95743c93546848f39158bfe96091
SEQUENCE:0
LAST-MODIFIED:20110920T064306Z
SUMMARY:Конкурс за упис на студенти од II циклус на студии
PRIORITY:3
TRANSP:0
END:VEVENT
END:VCALENDAR
