BEGIN:VCALENDAR
PRODID:-//AT Content Types//AT Event//EN
VERSION:2.0
METHOD:PUBLISH
BEGIN:VEVENT
DTSTAMP:20260425T172535Z
CREATED:20121029T104157Z
UID:ATEvent-7e9ad3283f0d271f15190ca7b04e28cb
LAST-MODIFIED:20130106T170639Z
SUMMARY:Колоквиумска недела
DTSTART:20130406T070000Z
DTEND:20130413T160000Z
CLASS:PUBLIC
END:VEVENT
END:VCALENDAR
