BEGIN:VCALENDAR
PRODID:-//AT Content Types//AT Event//EN
VERSION:2.0
METHOD:PUBLISH
BEGIN:VEVENT
DTSTAMP:20260421T171509Z
CREATED:20121029T103049Z
UID:ATEvent-d5db56abf6066c82cd716d70be84d08d
LAST-MODIFIED:20121029T104308Z
SUMMARY:Колоквиумска недела
DTSTART:20121222T080000Z
DTEND:20121229T170000Z
CLASS:PUBLIC
END:VEVENT
END:VCALENDAR
