BEGIN:VCALENDAR
PRODID:-//AT Content Types//AT Event//EN
VERSION:1.0
BEGIN:VEVENT
DTSTART:20190527T220000Z
DTEND:20190624T215500Z
DCREATED:20190515T130901Z
UID:ATEvent-4a07a27dd8e359bb1ccd5b8f7b2f8401
SEQUENCE:0
LAST-MODIFIED:20190515T132110Z
SUMMARY:ITU Centre of Excellence elearning курс\: „NGN Evolution\, Future Networks and Ultra-Broadband Internet”
PRIORITY:3
TRANSP:0
END:VEVENT
END:VCALENDAR
