BEGIN:VCALENDAR
PRODID:-//AT Content Types//AT Event//EN
VERSION:2.0
METHOD:PUBLISH
BEGIN:VEVENT
DTSTAMP:20260421T172219Z
CREATED:20121109T080648Z
UID:ATEvent-44d0499e4ac9534825e3b9f87e159c6f
LAST-MODIFIED:20121109T080653Z
SUMMARY:ITU Centre of Excellence elearning курс\: „Mobile Broadband”\, 20 ноември – 17 декември 2012 година
DTSTART:20121120T080000Z
DTEND:20121217T170000Z
CLASS:PUBLIC
END:VEVENT
END:VCALENDAR
