BEGIN:VCALENDAR
PRODID:-//AT Content Types//AT Event//EN
VERSION:2.0
METHOD:PUBLISH
BEGIN:VEVENT
DTSTAMP:20260421T171507Z
CREATED:20120518T121832Z
UID:ATEvent-3f198693d398e2dfc9356d46c3e03418
LAST-MODIFIED:20120518T130622Z
SUMMARY:ITU Centre of Excellence elearning курс\: „Future Internet”\, 29 мај – 25 јуни 2012 година
DTSTART:20120529T070000Z
DTEND:20120625T120000Z
CLASS:PUBLIC
END:VEVENT
END:VCALENDAR
