BEGIN:VCALENDAR
PRODID:-//AT Content Types//AT Event//EN
VERSION:2.0
METHOD:PUBLISH
BEGIN:VEVENT
DTSTAMP:20260425T171746Z
CREATED:20121029T103555Z
UID:ATEvent-e35436b647353d4d35e685fe48f7ca07
LAST-MODIFIED:20130106T170508Z
SUMMARY:Испитна сесија
DTSTART:20130121T080000Z
DTEND:20130215T140000Z
CLASS:PUBLIC
END:VEVENT
END:VCALENDAR
