BEGIN:VCALENDAR
PRODID:-//AT Content Types//AT Event//EN
VERSION:1.0
BEGIN:VEVENT
DTSTART:20130815T070000Z
DTEND:20130914T130000Z
DCREATED:20121029T110417Z
UID:ATEvent-302c7223233b316006a17fb698275074
SEQUENCE:0
LAST-MODIFIED:20121029T110421Z
SUMMARY:Испитна сесија
PRIORITY:3
TRANSP:0
END:VEVENT
END:VCALENDAR
