BEGIN:VCALENDAR
PRODID:-//AT Content Types//AT Event//EN
VERSION:1.0
BEGIN:VEVENT
DTSTART:20120329T120000Z
DTEND:20120329T150000Z
DCREATED:20120328T081620Z
UID:ATEvent-2e4e974268fc93ce372474a5297f22d5
SEQUENCE:0
LAST-MODIFIED:20120328T093558Z
SUMMARY:Финален натпревар за бизнис план "Промоција на ФЕИТ"
PRIORITY:3
TRANSP:0
END:VEVENT
END:VCALENDAR
