BEGIN:VCALENDAR
PRODID:-//AT Content Types//AT Event//EN
VERSION:2.0
METHOD:PUBLISH
BEGIN:VEVENT
DTSTAMP:20260421T171948Z
CREATED:20121029T102908Z
UID:ATEvent-8f374743cacdbb3d2457a39fad52f1ec
LAST-MODIFIED:20121030T095246Z
SUMMARY:Св. Климент Охридски
DTSTART:20121208T103000Z
DTEND:20121208T103000Z
CLASS:PUBLIC
END:VEVENT
END:VCALENDAR
