BEGIN:VCALENDAR
PRODID:-//AT Content Types//AT Event//EN
VERSION:2.0
METHOD:PUBLISH
BEGIN:VEVENT
DTSTAMP:20260421T172036Z
CREATED:20121029T110254Z
UID:ATEvent-f2c28723ab5620a1da678230053b87ee
LAST-MODIFIED:20130806T103524Z
SUMMARY:Рамазан Бајрам\, првиот ден на Рамазан Бајрам
DTSTART:20130808T100500Z
DTEND:20130808T200500Z
CLASS:PUBLIC
END:VEVENT
END:VCALENDAR
