BEGIN:VCALENDAR
PRODID:-//AT Content Types//AT Event//EN
VERSION:1.0
BEGIN:VEVENT
DTSTART:20130802T100000Z
DTEND:20130802T100000Z
DCREATED:20121029T110155Z
UID:ATEvent-b876022b0bf318b11d9fa499bffffa0b
SEQUENCE:0
LAST-MODIFIED:20121030T100747Z
SUMMARY:Ден на републиката
PRIORITY:3
TRANSP:0
END:VEVENT
END:VCALENDAR
