BEGIN:VCALENDAR
PRODID:-//AT Content Types//AT Event//EN
VERSION:2.0
METHOD:PUBLISH
BEGIN:VEVENT
DTSTAMP:20260421T171314Z
CREATED:20121029T105914Z
UID:ATEvent-4d6ab46a4f141c7dba8915a542f077ee
LAST-MODIFIED:20121030T100702Z
SUMMARY:Духовден\, петок пред Духовден
DTSTART:20130621T095500Z
DTEND:20130621T095500Z
CLASS:PUBLIC
END:VEVENT
END:VCALENDAR
