BEGIN:VCALENDAR
PRODID:-//AT Content Types//AT Event//EN
VERSION:2.0
METHOD:PUBLISH
BEGIN:VEVENT
DTSTAMP:20260421T171314Z
CREATED:20121029T104735Z
UID:ATEvent-883b7c95ec16b0c14fc23f64509e6b0a
LAST-MODIFIED:20121030T100244Z
SUMMARY:Велигден\, вториот ден на Велигден
DTSTART:20130506T095000Z
DTEND:20130506T095000Z
CLASS:PUBLIC
END:VEVENT
END:VCALENDAR
