BEGIN:VCALENDAR
PRODID:-//AT Content Types//AT Event//EN
VERSION:2.0
METHOD:PUBLISH
BEGIN:VEVENT
DTSTAMP:20260421T172004Z
CREATED:20121029T103446Z
UID:ATEvent-56059e44ec543d30f4f3b4c0b550f573
LAST-MODIFIED:20121030T095657Z
SUMMARY:Божик
DTSTART:20130106T103500Z
DTEND:20130107T103500Z
CLASS:PUBLIC
END:VEVENT
END:VCALENDAR
