BEGIN:VCALENDAR
PRODID:-//AT Content Types//AT Event//EN
VERSION:1.0
BEGIN:VEVENT
DTSTART:20130908T101000Z
DTEND:20130909T101000Z
DCREATED:20121029T110920Z
UID:ATEvent-d8634cf985522a3d713b16b60fc17e6d
SEQUENCE:0
LAST-MODIFIED:20121030T100938Z
SUMMARY:Ден на независноста
PRIORITY:3
TRANSP:0
END:VEVENT
END:VCALENDAR
