BEGIN:VCALENDAR
PRODID:-//AT Content Types//AT Event//EN
VERSION:2.0
METHOD:PUBLISH
BEGIN:VEVENT
DTSTAMP:20260421T171321Z
CREATED:20121029T110639Z
UID:ATEvent-24dfdc606ac194ac0fd65ce5b3de1409
LAST-MODIFIED:20121029T110644Z
SUMMARY:Државен празник
DTSTART:20130828T100500Z
DTEND:20130828T100500Z
CLASS:PUBLIC
END:VEVENT
END:VCALENDAR
