BEGIN:VCALENDAR
PRODID:-//AT Content Types//AT Event//EN
VERSION:1.0
BEGIN:VEVENT
DTSTART:20180131T070000Z
DTEND:20180131T190000Z
DCREATED:20180116T195334Z
UID:ATEvent-c69cf0390ca807a9abd41cde1f5612cf
SEQUENCE:0
LAST-MODIFIED:20180116T195649Z
SUMMARY:Дополнителна ден сесија
PRIORITY:3
TRANSP:0
END:VEVENT
END:VCALENDAR
