BEGIN:VCALENDAR
PRODID:-//AT Content Types//AT Event//EN
VERSION:2.0
METHOD:PUBLISH
BEGIN:VEVENT
DTSTAMP:20260421T172524Z
CREATED:20181112T093702Z
UID:ATEvent-452994068c04386430d73954857d5a25
LAST-MODIFIED:20181113T105554Z
SUMMARY:Доделување на стипендиите од електроенергетските компании  во Р. Македонија 2018 година
DTSTART:20181113T100000Z
DTEND:20181113T120000Z
CLASS:PUBLIC
END:VEVENT
END:VCALENDAR
