BEGIN:VCALENDAR
PRODID:-//AT Content Types//AT Event//EN
VERSION:1.0
BEGIN:VEVENT
DTSTART:20121008T085500Z
DTEND:20121008T085500Z
DCREATED:20121030T095339Z
UID:ATEvent-0a6fc97794f9622e2f82029dcd51f5d4
SEQUENCE:0
LAST-MODIFIED:20121030T095343Z
SUMMARY:Ден на независноста
PRIORITY:3
TRANSP:0
END:VEVENT
END:VCALENDAR
