BEGIN:VCALENDAR
PRODID:-//AT Content Types//AT Event//EN
VERSION:1.0
BEGIN:VEVENT
DTSTART:20121011T085500Z
DTEND:20121011T085500Z
DCREATED:20121030T095357Z
UID:ATEvent-d8eeb80327bd1addfdfabdfa367ac9ef
SEQUENCE:0
LAST-MODIFIED:20121030T095403Z
SUMMARY:Ден на народното востание
PRIORITY:3
TRANSP:0
END:VEVENT
END:VCALENDAR
