BEGIN:VCALENDAR
PRODID:-//AT Content Types//AT Event//EN
VERSION:2.0
METHOD:PUBLISH
BEGIN:VEVENT
DTSTAMP:20260425T221029Z
CREATED:20121029T105805Z
UID:ATEvent-66793ce679c2120f5cb85ba5c6228b07
LAST-MODIFIED:20121029T105810Z
SUMMARY:Ден на факултетот
DTSTART:20130619T095500Z
DTEND:20130619T095500Z
CLASS:PUBLIC
END:VEVENT
END:VCALENDAR
