BEGIN:VCALENDAR
PRODID:-//AT Content Types//AT Event//EN
VERSION:2.0
METHOD:PUBLISH
BEGIN:VEVENT
DTSTAMP:20260425T172103Z
CREATED:20130125T072540Z
UID:ATEvent-314f6250a89e3cbc1aff60e3511cd7da
LAST-MODIFIED:20130125T072717Z
SUMMARY:Заверка на зимскиот и Упис на летниот семестар за Втор циклус на студии
DTSTART:20130218T110000Z
DTEND:20130221T143000Z
CLASS:PUBLIC
END:VEVENT
END:VCALENDAR
